Workbook

Sheet 공립
A2: 2020학년도 공립 중등학교 교사 임용시험 응시원서 접수 현황(최종)
A3: 대전광역시교육청
A4: 순 | B4: 선발과목 | C4: 선발예정 인원(명) | F4: 지원자누계(명) | I4: 경쟁률(누적)
C5: 일반 | D5: 장애인 | E5: 계 | F5: 일반 | G5: 장애인 | H5: 계 | I5: 일반 | J5: 장애인 | K5: 계
A6: 1 | B6: 국어 | C6: 2 | D6: 0 | E6: 2 | F6: =IFERROR(VLOOKUP(B6, [1]공립일반!$E$3:$F$25, 2, FALSE), 0) -> 69 | G6: =IFERROR(VLOOKUP(B6, [1]공립일반!$H$3:$I$9, 2, FALSE), 0) -> 0 | H6: =SUM(F6:G6) -> 69 | I6: =IFERROR(F6/C6, 0) -> 34.5 | J6: =IFERROR(G6/D6, 0) -> 0 | K6: =IFERROR(H6/E6, 0) -> 34.5
A7: 2 | B7: 수학 | C7: 2 | D7: 0 | E7: 2 | F7: =IFERROR(VLOOKUP(B7, [1]공립일반!$E$3:$F$25, 2, FALSE), 0) -> 40 | G7: =IFERROR(VLOOKUP(B7, [1]공립일반!$H$3:$I$9, 2, FALSE), 0) -> 0 | H7: =SUM(F7:G7) -> 40 | I7: =IFERROR(F7/C7, 0) -> 20 | J7: =IFERROR(G7/D7, 0) -> 0 | K7: =IFERROR(H7/E7, 0) -> 20
A8: 3 | B8: 물리 | C8: 2 | D8: 0 | E8: 2 | F8: =IFERROR(VLOOKUP(B8, [1]공립일반!$E$3:$F$25, 2, FALSE), 0) -> 18 | G8: =IFERROR(VLOOKUP(B8, [1]공립일반!$H$3:$I$9, 2, FALSE), 0) -> 0 | H8: =SUM(F8:G8) -> 18 | I8: =IFERROR(F8/C8, 0) -> 9 | J8: =IFERROR(G8/D8, 0) -> 0 | K8: =IFERROR(H8/E8, 0) -> 9
A9: 4 | B9: 화학 | C9: 4 | D9: 0 | E9: 4 | F9: =IFERROR(VLOOKUP(B9, [1]공립일반!$E$3:$F$25, 2, FALSE), 0) -> 26 | G9: =IFERROR(VLOOKUP(B9, [1]공립일반!$H$3:$I$9, 2, FALSE), 0) -> 0 | H9: =SUM(F9:G9) -> 26 | I9: =IFERROR(F9/C9, 0) -> 6.5 | J9: =IFERROR(G9/D9, 0) -> 0 | K9: =IFERROR(H9/E9, 0) -> 6.5
A10: 5 | B10: 생물 | C10: 6 | D10: 1 | E10: 7 | F10: =IFERROR(VLOOKUP(B10, [1]공립일반!$E$3:$F$25, 2, FALSE), 0) -> 41 | G10: =IFERROR(VLOOKUP(B10, [1]공립일반!$H$3:$I$9, 2, FALSE), 0) -> 0 | H10: =SUM(F10:G10) -> 41 | I10: =IFERROR(F10/C10, 0) -> 6.8333333 | J10: =IFERROR(G10/D10, 0) -> 0 | K10: =IFERROR(H10/E10, 0) -> 5.8571429
A11: 6 | B11: 지구과학 | C11: 3 | D11: 0 | E11: 3 | F11: =IFERROR(VLOOKUP(B11, [1]공립일반!$E$3:$F$25, 2, FALSE), 0) -> 31 | G11: =IFERROR(VLOOKUP(B11, [1]공립일반!$H$3:$I$9, 2, FALSE), 0) -> 0 | H11: =SUM(F11:G11) -> 31 | I11: =IFERROR(F11/C11, 0) -> 10.333333 | J11: =IFERROR(G11/D11, 0) -> 0 | K11: =IFERROR(H11/E11, 0) -> 10.333333
A12: 7 | B12: 일반사회 | C12: 16 | D12: 1 | E12: 17 | F12: =IFERROR(VLOOKUP(B12, [1]공립일반!$E$3:$F$25, 2, FALSE), 0) -> 112 | G12: =IFERROR(VLOOKUP(B12, [1]공립일반!$H$3:$I$9, 2, FALSE), 0) -> 1 | H12: =SUM(F12:G12) -> 113 | I12: =IFERROR(F12/C12, 0) -> 7 | J12: =IFERROR(G12/D12, 0) -> 1 | K12: =IFERROR(H12/E12, 0) -> 6.6470588
A13: 8 | B13: 역사 | C13: 8 | D13: 1 | E13: 9 | F13: =IFERROR(VLOOKUP(B13, [1]공립일반!$E$3:$F$25, 2, FALSE), 0) -> 112 | G13: =IFERROR(VLOOKUP(B13, [1]공립일반!$H$3:$I$9, 2, FALSE), 0) -> 1 | H13: =SUM(F13:G13) -> 113 | I13: =IFERROR(F13/C13, 0) -> 14 | J13: =IFERROR(G13/D13, 0) -> 1 | K13: =IFERROR(H13/E13, 0) -> 12.555556
A14: 9 | B14: 지리 | C14: 3 | D14: 0 | E14: 3 | F14: =IFERROR(VLOOKUP(B14, [1]공립일반!$E$3:$F$25, 2, FALSE), 0) -> 20 | G14: =IFERROR(VLOOKUP(B14, [1]공립일반!$H$3:$I$9, 2, FALSE), 0) -> 0 | H14: =SUM(F14:G14) -> 20 | I14: =IFERROR(F14/C14, 0) -> 6.6666667 | J14: =IFERROR(G14/D14, 0) -> 0 | K14: =IFERROR(H14/E14, 0) -> 6.6666667
A15: 10 | B15: 도덕・윤리 | C15: 13 | D15: 1 | E15: 14 | F15: =IFERROR(VLOOKUP(B15, [1]공립일반!$E$3:$F$25, 2, FALSE), 0) -> 56 | G15: =IFERROR(VLOOKUP(B15, [1]공립일반!$H$3:$I$9, 2, FALSE), 0) -> 1 | H15: =SUM(F15:G15) -> 57 | I15: =IFERROR(F15/C15, 0) -> 4.3076923 | J15: =IFERROR(G15/D15, 0) -> 1 | K15: =IFERROR(H15/E15, 0) -> 4.0714286
A16: 11 | B16: 체육 | C16: 15 | D16: 1 | E16: 16 | F16: =IFERROR(VLOOKUP(B16, [1]공립일반!$E$3:$F$25, 2, FALSE), 0) -> 143 | G16: =IFERROR(VLOOKUP(B16, [1]공립일반!$H$3:$I$9, 2, FALSE), 0) -> 3 | H16: =SUM(F16:G16) -> 146 | I16: =IFERROR(F16/C16, 0) -> 9.5333333 | J16: =IFERROR(G16/D16, 0) -> 3 | K16: =IFERROR(H16/E16, 0) -> 9.125
A17: 12 | B17: 음악 | C17: 11 | D17: 1 | E17: 12 | F17: =IFERROR(VLOOKUP(B17, [1]공립일반!$E$3:$F$25, 2, FALSE), 0) -> 132 | G17: =IFERROR(VLOOKUP(B17, [1]공립일반!$H$3:$I$9, 2, FALSE), 0) -> 5 | H17: =SUM(F17:G17) -> 137 | I17: =IFERROR(F17/C17, 0) -> 12 | J17: =IFERROR(G17/D17, 0) -> 5 | K17: =IFERROR(H17/E17, 0) -> 11.416667
... A28: 23 | B28: 전문상담 | C28: 17 | D28: 1 | E28: 18 | F28: =IFERROR(VLOOKUP(B28, [1]공립일반!$E$3:$F$25, 2, FALSE), 0) -> 48 | G28: =IFERROR(VLOOKUP(B28, [1]공립일반!$H$3:$I$9, 2, FALSE), 0) -> 0 | H28: =SUM(F28:G28) -> 48 | I28: =IFERROR(F28/C28, 0) -> 2.8235294 | J28: =IFERROR(G28/D28, 0) -> 0 | K28: =IFERROR(H28/E28, 0) -> 2.6666667
A29: 합계 | B29: 합계 | C29: 191 | D29: 14 | E29: 205 | F29: =SUM(F6:F28) -> 1525 | G29: =SUM(G6:G28) -> 20 | H29: =SUM(H6:H28) -> 1545 | I29: =IFERROR(F29/C29, 0) -> 7.9842932 | J29: =IFERROR(G29/D29, 0) -> 1.4285714 | K29: =IFERROR(H29/E29, 0) -> 7.5365854

Sheet 사립
A2: 2020학년도 사립 중등학교 교사 임용 위탁선발시험 응시원서 접수 현황(최종)
A3: 대전광역시교육청
A4: 법인명 | B4: 순 | C4: 선발과목 | D4: 선발예정 인원(명) | E4: 지원자누계(명) | H4: 경쟁률(누적)
E5: 1순위 | F5: 2순위 | G5: 합계
A6: 경금학원 | B6: 1 | C6: 국어 | D6: 1 | E6: =IFERROR(VLOOKUP(C6, [1]사립일반!$M$22:$N$26, 2, FALSE), 0) -> 9 | F6: 0 | G6: =SUM(E6:F6) -> 9 | H6: =G6/D6 -> 9
B7: 2 | C7: 영어 | D7: 2 | E7: =IFERROR(VLOOKUP(C7, [1]사립일반!$M$22:$N$26, 2, FALSE), 0) -> 22 | F7: 0 | G7: =SUM(E7:F7) -> 22 | H7: =G7/D7 -> 11
B8: 3 | C8: 화학 | D8: 1 | E8: =IFERROR(VLOOKUP(C8, [1]사립일반!$M$22:$N$26, 2, FALSE), 0) -> 4 | F8: 0 | G8: =SUM(E8:F8) -> 4 | H8: =G8/D8 -> 4
B9: 4 | C9: 지구과학 | D9: 1 | E9: =IFERROR(VLOOKUP(C9, [1]사립일반!$M$22:$N$26, 2, FALSE), 0) -> 5 | F9: 0 | G9: =SUM(E9:F9) -> 5 | H9: =G9/D9 -> 5
B10: 5 | C10: 체육 | D10: 1 | E10: =IFERROR(VLOOKUP(C10, [1]사립일반!$M$22:$N$26, 2, FALSE), 0) -> 8 | F10: 0 | G10: =SUM(E10:F10) -> 8 | H10: =G10/D10 -> 8
A11: 경덕학원 | B11: 1 | C11: 국어 | D11: 1 | E11: =IFERROR(VLOOKUP(C11, [1]사립일반!$M$27:$N$31, 2, FALSE), 0) -> 9 | F11: =IFERROR(VLOOKUP(C11, [1]사립일반!$M$2:$N$4, 2, FALSE), 0) -> 5 | G11: =SUM(E11:F11) -> 14 | H11: =G11/D11 -> 14
B12: 2 | C12: 기술 | D12: 1 | E12: =IFERROR(VLOOKUP(C12, [1]사립일반!$M$27:$N$31, 2, FALSE), 0) -> 3 | F12: =IFERROR(VLOOKUP(C12, [1]사립일반!$M$2:$N$4, 2, FALSE), 0) -> 1 | G12: =SUM(E12:F12) -> 4 | H12: =G12/D12 -> 4
B13: 3 | C13: 미용 | D13: 2 | E13: =IFERROR(VLOOKUP(C13, [1]사립일반!$M$27:$N$31, 2, FALSE), 0) -> 11 | F13: =IFERROR(VLOOKUP(C13, [1]사립일반!$M$2:$N$4, 2, FALSE), 0) -> 0 | G13: =SUM(E13:F13) -> 11 | H13: =G13/D13 -> 5.5
B14: 4 | C14: 전기 | D14: 1 | E14: =IFERROR(VLOOKUP(C14, [1]사립일반!$M$27:$N$31, 2, FALSE), 0) -> 5 | F14: =IFERROR(VLOOKUP(C14, [1]사립일반!$M$2:$N$4, 2, FALSE), 0) -> 0 | G14: =SUM(E14:F14) -> 5 | H14: =G14/D14 -> 5
B15: 5 | C15: 조리 | D15: 1 | E15: =IFERROR(VLOOKUP(C15, [1]사립일반!$M$27:$N$31, 2, FALSE), 0) -> 1 | F15: =IFERROR(VLOOKUP(C15, [1]사립일반!$M$2:$N$4, 2, FALSE), 0) -> 13 | G15: =SUM(E15:F15) -> 14 | H15: =G15/D15 -> 14
A16: 대성학원 | B16: 1 | C16: 지구과학 | D16: 1 | E16: =IFERROR(VLOOKUP(C16, [1]사립일반!$M$32:$N$34, 2, FALSE), 0) -> 3 | F16: =IFERROR(VLOOKUP(C16, [1]사립일반!$M$5:$N$6, 2, FALSE), 0) -> 18 | G16: =SUM(E16:F16) -> 21 | H16: =G16/D16 -> 21
B17: 2 | C17: 상업 | D17: 2 | E17: =IFERROR(VLOOKUP(C17, [1]사립일반!$M$32:$N$34, 2, FALSE), 0) -> 7 | F17: =IFERROR(VLOOKUP(C17, [1]사립일반!$M$5:$N$6, 2, FALSE), 0) -> 0 | G17: =SUM(E17:F17) -> 7 | H17: =G17/D17 -> 3.5
B18: 3 | C18: 보건 | D18: 1 | E18: =IFERROR(VLOOKUP(C18, [1]사립일반!$M$32:$N$34, 2, FALSE), 0) -> 4 | F18: =IFERROR(VLOOKUP(C18, [1]사립일반!$M$5:$N$6, 2, FALSE), 0) -> 41 | G18: =SUM(E18:F18) -> 45 | H18: =G18/D18 -> 45
A19: 대운학원 | B19: 1 | C19: 국어 | D19: 1 | E19: =IFERROR(VLOOKUP(C19, [1]사립일반!$M$35:$N$37, 2, FALSE), 0) -> 5 | F19: =IFERROR(VLOOKUP(C19, [1]사립일반!$M$7:$N$9, 2, FALSE), 0) -> 8 | G19: =SUM(E19:F19) -> 13 | H19: =G19/D19 -> 13
B20: 2 | C20: 수학 | D20: 1 | E20: =IFERROR(VLOOKUP(C20, [1]사립일반!$M$35:$N$37, 2, FALSE), 0) -> 5 | F20: =IFERROR(VLOOKUP(C20, [1]사립일반!$M$7:$N$9, 2, FALSE), 0) -> 2 | G20: =SUM(E20:F20) -> 7 | H20: =G20/D20 -> 7
B21: 3 | C21: 음악 | D21: 1 | E21: =IFERROR(VLOOKUP(C21, [1]사립일반!$M$35:$N$37, 2, FALSE), 0) -> 4 | F21: =IFERROR(VLOOKUP(C21, [1]사립일반!$M$7:$N$9, 2, FALSE), 0) -> 63 | G21: =SUM(E21:F21) -> 67 | H21: =G21/D21 -> 67
A22: 동방학원 | B22: 1 | C22: 수학 | D22: 2 | E22: =IFERROR(VLOOKUP(C22, [1]사립일반!$M$38:$N$43, 2, FALSE), 0) -> 10 | F22: =IFERROR(VLOOKUP(C22, [1]사립일반!$M$10:$N$14, 2, FALSE), 0) -> 7 | G22: =SUM(E22:F22) -> 17 | H22: =G22/D22 -> 8.5
B23: 2 | C23: 영어 | D23: 2 | E23: =IFERROR(VLOOKUP(C23, [1]사립일반!$M$38:$N$43, 2, FALSE), 0) -> 21 | F23: =IFERROR(VLOOKUP(C23, [1]사립일반!$M$10:$N$14, 2, FALSE), 0) -> 29 | G23: =SUM(E23:F23) -> 50 | H23: =G23/D23 -> 25
B24: 3 | C24: 역사 | D24: 1 | E24: =IFERROR(VLOOKUP(C24, [1]사립일반!$M$38:$N$43, 2, FALSE), 0) -> 6 | F24: =IFERROR(VLOOKUP(C24, [1]사립일반!$M$10:$N$14, 2, FALSE), 0) -> 56 | G24: =SUM(E24:F24) -> 62 | H24: =G24/D24 -> 62
B25: 4 | C25: 화학 | D25: 1 | E25: =IFERROR(VLOOKUP(C25, [1]사립일반!$M$38:$N$43, 2, FALSE), 0) -> 3 | F25: =IFERROR(VLOOKUP(C25, [1]사립일반!$M$10:$N$14, 2, FALSE), 0) -> 13 | G25: =SUM(E25:F25) -> 16 | H25: =G25/D25 -> 16
B26: 5 | C26: 도덕・윤리 | D26: 1 | E26: =IFERROR(VLOOKUP(C26, [1]사립일반!$M$38:$N$43, 2, FALSE), 0) -> 1 | F26: =IFERROR(VLOOKUP(C26, [1]사립일반!$M$10:$N$14, 2, FALSE), 0) -> 21 | G26: =SUM(E26:F26) -> 22 | H26: =G26/D26 -> 22
B27: 6 | C27: 중국어 | D27: 1 | E27: =IFERROR(VLOOKUP(C27, [1]사립일반!$M$38:$N$43, 2, FALSE), 0) -> 10 | F27: =IFERROR(VLOOKUP(C27, [1]사립일반!$M$10:$N$14, 2, FALSE), 0) -> 0 | G27: =SUM(E27:F27) -> 10 | H27: =G27/D27 -> 10
A28: 보문학원 | B28: 1 | C28: 국어 | D28: 1 | E28: =IFERROR(VLOOKUP(C28, [1]사립일반!$M$44:$N$47, 2, FALSE), 0) -> 9 | F28: 0 | G28: =SUM(E28:F28) -> 9 | H28: =G28/D28 -> 9
B29: 2 | C29: 영어 | D29: 1 | E29: =IFERROR(VLOOKUP(C29, [1]사립일반!$M$44:$N$47, 2, FALSE), 0) -> 5 | F29: 0 | G29: =SUM(E29:F29) -> 5 | H29: =G29/D29 -> 5
B30: 3 | C30: 지리 | D30: 1 | E30: =IFERROR(VLOOKUP(C30, [1]사립일반!$M$44:$N$47, 2, FALSE), 0) -> 9 | F30: 0 | G30: =SUM(E30:F30) -> 9 | H30: =G30/D30 -> 9
B31: 4 | C31: 생물 | D31: 1 | E31: =IFERROR(VLOOKUP(C31, [1]사립일반!$M$44:$N$47, 2, FALSE), 0) -> 14 | F31: 0 | G31: =SUM(E31:F31) -> 14 | H31: =G31/D31 -> 14
A32: 신일학원 | B32: 1 | C32: 체육 | D32: 2 | E32: =IFERROR(VLOOKUP(C32, [1]사립일반!$M$48:$N$50, 2, FALSE), 0) -> 25 | F32: 0 | G32: =SUM(E32:F32) -> 25 | H32: =G32/D32 -> 12.5
B33: 2 | C33: 미술 | D33: 2 | E33: =IFERROR(VLOOKUP(C33, [1]사립일반!$M$48:$N$50, 2, FALSE), 0) -> 9 | F33: 0 | G33: =SUM(E33:F33) -> 9 | H33: =G33/D33 -> 4.5
B34: 3 | C34: 가정 | D34: 1 | E34: =IFERROR(VLOOKUP(C34, [1]사립일반!$M$48:$N$50, 2, FALSE), 0) -> 4 | F34: 0 | G34: =SUM(E34:F34) -> 4 | H34: =G34/D34 -> 4
A35: 정훈학원 | B35: 1 | C35: 국어 | D35: 1 | E35: =IFERROR(VLOOKUP(C35, [1]사립일반!$M$57:$N$58, 2, FALSE), 0) -> 10 | F35: =IFERROR(VLOOKUP(C35, [1]사립일반!$M$20:$N$21, 2, FALSE), 0) -> 18 | G35: =SUM(E35:F35) -> 28 | H35: =G35/D35 -> 28
B36: 2 | C36: 수학 | D36: 2 | E36: =IFERROR(VLOOKUP(C36, [1]사립일반!$M$57:$N$58, 2, FALSE), 0) -> 12 | F36: =IFERROR(VLOOKUP(C36, [1]사립일반!$M$20:$N$21, 2, FALSE), 0) -> 6 | G36: =SUM(E36:F36) -> 18 | H36: =G36/D36 -> 9
A37: 창성학원 | B37: 1 | C37: 수학 | D37: 2 | E37: =IFERROR(VLOOKUP(C37, [1]사립일반!$M$51:$N$56, 2, FALSE), 0) -> 6 | F37: =IFERROR(VLOOKUP(C37, [1]사립일반!$M$15:$N$19, 2, FALSE), 0) -> 6 | G37: =SUM(E37:F37) -> 12 | H37: =G37/D37 -> 6
B38: 2 | C38: 물리 | D38: 1 | E38: =IFERROR(VLOOKUP(C38, [1]사립일반!$M$51:$N$56, 2, FALSE), 0) -> 3 | F38: =IFERROR(VLOOKUP(C38, [1]사립일반!$M$15:$N$19, 2, FALSE), 0) -> 10 | G38: =SUM(E38:F38) -> 13 | H38: =G38/D38 -> 13
B39: 3 | C39: 일반사회 | D39: 1 | E39: =IFERROR(VLOOKUP(C39, [1]사립일반!$M$51:$N$56, 2, FALSE), 0) -> 2 | F39: =IFERROR(VLOOKUP(C39, [1]사립일반!$M$15:$N$19, 2, FALSE), 0) -> 55 | G39: =SUM(E39:F39) -> 57 | H39: =G39/D39 -> 57
B40: 4 | C40: 영어 | D40: 1 | E40: =IFERROR(VLOOKUP(C40, [1]사립일반!$M$51:$N$56, 2, FALSE), 0) -> 7 | F40: =IFERROR(VLOOKUP(C40, [1]사립일반!$M$15:$N$19, 2, FALSE), 0) -> 12 | G40: =SUM(E40:F40) -> 19 | H40: =G40/D40 -> 19
B41: 5 | C41: 상업 | D41: 2 | E41: =IFERROR(VLOOKUP(C41, [1]사립일반!$M$51:$N$56, 2, FALSE), 0) -> 9 | F41: =IFERROR(VLOOKUP(C41, [1]사립일반!$M$15:$N$19, 2, FALSE), 0) -> 0 | G41: =SUM(E41:F41) -> 9 | H41: =G41/D41 -> 4.5
...
