Workbook

Sheet 총괄
A1: 2021학년도 공·사립 중등학교 교사 임용시험 응시원서 접수현황(최종)
A3: ■ 전라남도교육청
A4: 구 분 | C4: 선발예정인원 | D4: 지원자 | E4: 경쟁률
A5: 공 립 | B5: 일반 | C5: ='공립(취소기간후)'!C34 -> 516 | D5: ='공립(취소기간후)'!H34 -> 3401 | E5: =ROUND(D5/C5,2) -> 6.59
B6: 장애 | C6: ='공립(취소기간후)'!D34 -> 39 | D6: ='공립(취소기간후)'!I34 -> 29 | E6: =ROUND(D6/C6,2) -> 0.74
B7: 도서 | C7: ='공립(취소기간후)'!E34 -> 3 | D7: ='공립(취소기간후)'!J34 -> 27 | E7: =ROUND(D7/C7,2) -> 9
B8: 학교 | C8: ='공립(취소기간후)'!F34 -> 1 | D8: ='공립(취소기간후)'!K34 -> 9 | E8: =ROUND(D8/C8,2) -> 9
B9: 소계 | C9: =SUM(C5:C8) -> 559 | D9: =SUM(D5:D8) -> 3466 | E9: =ROUND(D9/C9,2) -> 6.2
A10: 사 립 | C10: 147 | D10: ='사립(취소기간후)'!F135 -> 573 | E10: =ROUND(D10/C10,2) -> 3.9
A11: 계 | C11: =SUM(C9:C10) -> 706 | D11: =SUM(D9:D10) -> 4039 | E11: =ROUND(D11/C11,2) -> 5.72

Sheet 공립(취소기간후)
A1: 2021학년도 공립 중등교사 임용시험 접수 현황(최종)
A3: ■ 전라남도교육청
A5: 연번 | B5: 선발 예정 과목 | C5: 선발 예정 인원(명) | H5: 1순위 지원자(명) | M5: 1순위 경쟁률
C6: 일반 | D6: 장애 | E6: 도서 | F6: 학교 | G6: 계 | H6: 일반 | I6: 장애 | J6: 도서 | K6: 학교 | L6: 계 | M6: 일반 | N6: 장애 | O6: 도서 | P6: 학교 | Q6: 합계
A7: 1 | B7: 국어 | C7: 27 | D7: 2 | E7: 1 | G7: 30 | H7: 408 | I7: 2 | J7: 14 | L7: =SUM(H7:K7) -> 424 | M7: =ROUND(H7/C7,2) -> 15.11 | N7: =ROUND(I7/D7,2) -> 1 | O7: =ROUND(J7/E7,2) -> 14 | Q7: =ROUND(L7/G7,2) -> 14.13
A8: 2 | B8: 수학 | C8: 26 | D8: 2 | G8: 28 | H8: 281 | L8: =SUM(H8:K8) -> 281 | M8: =ROUND(H8/C8,2) -> 10.81 | N8: =ROUND(I8/D8,2) -> 0 | Q8: =ROUND(L8/G8,2) -> 10.04
A9: 3 | B9: 물리 | C9: 10 | G9: 10 | H9: 86 | L9: =SUM(H9:K9) -> 86 | M9: =ROUND(H9/C9,2) -> 8.6 | Q9: =ROUND(L9/G9,2) -> 8.6
A10: 4 | B10: 화학 | C10: 10 | G10: 10 | H10: 95 | L10: =SUM(H10:K10) -> 95 | M10: =ROUND(H10/C10,2) -> 9.5 | Q10: =ROUND(L10/G10,2) -> 9.5
A11: 5 | B11: 생물 | C11: 10 | E11: 1 | G11: 11 | H11: 98 | J11: 4 | L11: =SUM(H11:K11) -> 102 | M11: =ROUND(H11/C11,2) -> 9.8 | O11: =ROUND(J11/E11,2) -> 4 | Q11: =ROUND(L11/G11,2) -> 9.27
A12: 6 | B12: 지구과학 | C12: 9 | G12: 9 | H12: 62 | L12: =SUM(H12:K12) -> 62 | M12: =ROUND(H12/C12,2) -> 6.89 | Q12: =ROUND(L12/G12,2) -> 6.89
A13: 7 | B13: 일반사회 | C13: 14 | D13: 1 | E13: 1 | G13: 16 | H13: 95 | I13: 1 | J13: 9 | L13: =SUM(H13:K13) -> 105 | M13: =ROUND(H13/C13,2) -> 6.79 | N13: =ROUND(I13/D13,2) -> 1 | O13: =ROUND(J13/E13,2) -> 9 | Q13: =ROUND(L13/G13,2) -> 6.56
A14: 8 | B14: 역사 | C14: 17 | D14: 1 | G14: 18 | H14: 198 | L14: =SUM(H14:K14) -> 198 | M14: =ROUND(H14/C14,2) -> 11.65 | N14: =ROUND(I14/D14,2) -> 0 | Q14: =ROUND(L14/G14,2) -> 11
A15: 9 | B15: 지리 | C15: 17 | D15: 1 | G15: 18 | H15: 89 | I15: 1 | L15: =SUM(H15:K15) -> 90 | M15: =ROUND(H15/C15,2) -> 5.24 | N15: =ROUND(I15/D15,2) -> 1 | Q15: =ROUND(L15/G15,2) -> 5
A16: 10 | B16: 도덕·윤리 | C16: 28 | D16: 2 | G16: 30 | H16: 90 | I16: 1 | L16: =SUM(H16:K16) -> 91 | M16: =ROUND(H16/C16,2) -> 3.21 | N16: =ROUND(I16/D16,2) -> 0.5 | Q16: =ROUND(L16/G16,2) -> 3.03
A17: 11 | B17: 체육 | C17: 28 | D17: 2 | G17: 30 | H17: 216 | I17: 6 | L17: =SUM(H17:K17) -> 222 | M17: =ROUND(H17/C17,2) -> 7.71 | N17: =ROUND(I17/D17,2) -> 3 | Q17: =ROUND(L17/G17,2) -> 7.4
A18: 12 | B18: 음악 | C18: 14 | D18: 1 | G18: 15 | H18: 148 | L18: =SUM(H18:K18) -> 148 | M18: =ROUND(H18/C18,2) -> 10.57 | N18: =ROUND(I18/D18,2) -> 0 | Q18: =ROUND(L18/G18,2) -> 9.87
A19: 13 | B19: 미술 | C19: 17 | D19: 1 | G19: 18 | H19: 139 | L19: =SUM(H19:K19) -> 139 | M19: =ROUND(H19/C19,2) -> 8.18 | N19: =ROUND(I19/D19,2) -> 0 | Q19: =ROUND(L19/G19,2) -> 7.72
A20: 14 | B20: 한문 | C20: 2 | G20: 2 | H20: 17 | L20: =SUM(H20:K20) -> 17 | M20: =ROUND(H20/C20,2) -> 8.5 | Q20: =ROUND(L20/G20,2) -> 8.5
A21: 15 | B21: 영어 | C21: 21 | D21: 2 | G21: 23 | H21: 280 | I21: 4 | L21: =SUM(H21:K21) -> 284 | M21: =ROUND(H21/C21,2) -> 13.33 | N21: =ROUND(I21/D21,2) -> 2 | Q21: =ROUND(L21/G21,2) -> 12.35
A22: 16 | B22: 일본어 | C22: 4 | G22: 4 | H22: 22 | L22: =SUM(H22:K22) -> 22 | M22: =ROUND(H22/C22,2) -> 5.5 | Q22: =ROUND(L22/G22,2) -> 5.5
A23: 17 | B23: 기술 | C23: 14 | D23: 1 | G23: 15 | H23: 43 | I23: 1 | L23: =SUM(H23:K23) -> 44 | M23: =ROUND(H23/C23,2) -> 3.07 | N23: =ROUND(I23/D23,2) -> 1 | Q23: =ROUND(L23/G23,2) -> 2.93
A24: 18 | B24: 가정 | C24: 15 | D24: 1 | G24: 16 | H24: 94 | L24: =SUM(H24:K24) -> 94 | M24: =ROUND(H24/C24,2) -> 6.27 | N24: =ROUND(I24/D24,2) -> 0 | Q24: =ROUND(L24/G24,2) -> 5.88
A25: 19 | B25: 식품가공 | C25: 5 | G25: 5 | H25: 17 | L25: =SUM(H25:K25) -> 17 | M25: =ROUND(H25/C25,2) -> 3.4 | Q25: =ROUND(L25/G25,2) -> 3.4
A26: 20 | B26: 정보·컴퓨터 | C26: 6 | G26: 6 | H26: 59 | L26: =SUM(H26:K26) -> 59 | M26: =ROUND(H26/C26,2) -> 9.83 | Q26: =ROUND(L26/G26,2) -> 9.83
A27: 21 | B27: 화공 | C27: 5 | G27: 5 | H27: 23 | L27: =SUM(H27:K27) -> 23 | M27: =ROUND(H27/C27,2) -> 4.6 | Q27: =ROUND(L27/G27,2) -> 4.6
A28: 22 | B28: 조리 | C28: 1 | G28: 1 | H28: 6 | L28: =SUM(H28:K28) -> 6 | M28: =ROUND(H28/C28,2) -> 6 | Q28: =ROUND(L28/G28,2) -> 6
A29: 23 | B29: 보건 | C29: 77 | D29: 6 | G29: 83 | H29: 278 | I29: 3 | L29: =SUM(H29:K29) -> 281 | M29: =ROUND(H29/C29,2) -> 3.61 | N29: =ROUND(I29/D29,2) -> 0.5 | Q29: =ROUND(L29/G29,2) -> 3.39
A30: 24 | B30: 사서 | C30: 26 | D30: 2 | G30: 28 | H30: 70 | L30: =SUM(H30:K30) -> 70 | M30: =ROUND(H30/C30,2) -> 2.69 | N30: =ROUND(I30/D30,2) -> 0 | Q30: =ROUND(L30/G30,2) -> 2.5
A31: 25 | B31: 전문상담 | C31: 53 | D31: 5 | F31: 1 | G31: 59 | H31: 126 | K31: 9 | L31: =SUM(H31:K31) -> 135 | M31: =ROUND(H31/C31,2) -> 2.38 | N31: =ROUND(I31/D31,2) -> 0 | P31: =ROUND(K31/F31,2) -> 9 | Q31: =ROUND(L31/G31,2) -> 2.29
A32: 26 | B32: 영양 | C32: 40 | D32: 4 | G32: 44 | H32: 177 | I32: 1 | L32: =SUM(H32:K32) -> 178 | M32: =ROUND(H32/C32,2) -> 4.43 | N32: =ROUND(I32/D32,2) -> 0.25 | Q32: =ROUND(L32/G32,2) -> 4.05
A33: 27 | B33: 특수(중등) | C33: 20 | D33: 5 | G33: 25 | H33: 184 | I33: 9 | L33: =SUM(H33:K33) -> 193 | M33: =ROUND(H33/C33,2) -> 9.2 | N33: =ROUND(I33/D33,2) -> 1.8 | Q33: =ROUND(L33/G33,2) -> 7.72
A34: 공립(계) | C34: =SUM(C7:C33) -> 516 | D34: =SUM(D7:D33) -> 39 | E34: =SUM(E7:E33) -> 3 | F34: =SUM(F7:F33) -> 1 | G34: =SUM(G7:G33) -> 559 | H34: =SUM(H7:H33) -> 3401 | I34: =SUM(I7:I33) -> 29 | J34: =SUM(J7:J33) -> 27 | ... L34: =SUM(L7:L33) -> 3466 | M34: =ROUND(H34/C34,2) -> 6.59 | N34: =ROUND(I34/D34,2) -> 0.74 | O34: =ROUND(J34/E34,2) -> 9 | P34: =ROUND(K34/F34,2) -> 9 | Q34: =ROUND(L34/G34,2) -> 6.2

Sheet 사립(취소기간후)
A1: 2021학년도 사립 중등교사 임용시험 접수 현황(최종)
A3: ■ 전라남도교육청
A5: 법인명 | B5: 학교명 | C5: 선발방식 | D5: 과목 | E5: 선발예정인원 | F5: 지원자 | H5: 경쟁률
F6: 1순위 | G6: 2순위 | H6: 1순위
A7: 문태 | B7: 문태중 | C7: 선택2 | D7: 미술 | E7: 1 | F7: 4 | G7: 30 | H7: =ROUND(F7/E7,2) -> 4
D8: 기술 | E8: 1 | F8: 2 | G8: 12 | H8: =ROUND(F8/E8,2) -> 2
D9: 정보·컴퓨터 | E9: 1 | F9: 3 | G9: 7 | H9: =ROUND(F9/E9,2) -> 3
B10: 문태고 | C10: 선택2 | D10: 일반사회 | E10: 1 | F10: 4 | G10: 5 | H10: =ROUND(F10/E10,2) -> 4
D11: 수학 | E11: 1 | F11: 8 | G11: 12 | H11: =ROUND(F11/E11,2) -> 8
D12: 한문 | E12: 1 | F12: 4 | G12: 12 | H12: =ROUND(F12/E12,2) -> 4
A13: 마리아회 | B13: 목포마리아회고 | C13: 선택2 | D13: 국어 | E13: 1 | F13: 2 | G13: 7 | H13: =ROUND(F13/E13,2) -> 2
A14: 덕인 | B14: 덕인학원 (목포덕인중) (목포덕인고) (목포혜인여중) (목포혜인여고) | C14: 선택2 | D14: 수학 | E14: 2 | F14: 12 | G14: 16 | H14: =ROUND(F14/E14,2) -> 6
D15: 영어 | E15: 2 | F15: 6 | G15: 23 | H15: =ROUND(F15/E15,2) -> 3
D16: 정보·컴퓨터 | E16: 1 | F16: 3 | G16: 3 | H16: =ROUND(F16/E16,2) -> 3
D17: 보건 | E17: 1 | F17: 5 | G17: 46 | H17: =ROUND(F17/E17,2) -> 5
A18: 호남기독 | B18: 목포정명여중 | C18: 선택2 | D18: 일반사회 | E18: 1 | F18: 1 | G18: 4 | H18: =ROUND(F18/E18,2) -> 1
B19: 목포정명여고 | C19: 선택2 | D19: 국어 | E19: 1 | F19: 4 | G19: 18 | H19: =ROUND(F19/E19,2) -> 4
D20: 역사 | E20: 1 | F20: 4 | G20: 15 | H20: =ROUND(F20/E20,2) -> 4
D21: 일반사회 | E21: 1 | F21: 1 | G21: 4 | H21: =ROUND(F21/E21,2) -> 1
D22: 생물 | E22: 1 | F22: 2 | G22: 11 | H22: =ROUND(F22/E22,2) -> 2
D23: 지구과학 | E23: 1 | F23: 1 | G23: 8 | H23: =ROUND(F23/E23,2) -> 1
D24: 보건 | E24: 1 | F24: 2 | G24: 34 | H24: =ROUND(F24/E24,2) -> 2
A25: 영화 | B25: 목포여상고 | C25: 선택2 | D25: 보건 | E25: 1 | F25: 1 | G25: 18 | H25: =ROUND(F25/E25,2) -> 1
D26: 상업 | E26: 1 | F26: 6 | G26: 0 | H26: =ROUND(F26/E26,2) -> 6
A27: 근화 | B27: 목포중앙고 | C27: 선택1 | D27: 역사 | E27: 1 | F27: 0 | G27: 30 | H27: =ROUND(F27/E27,2) -> 0
D28: 연극영화 | E28: 1 | F28: 1 | G28: 0 | H28: =ROUND(F28/E28,2) -> 1
D29: 기계 | E29: 1 | F29: 4 | G29: 0 | H29: =ROUND(F29/E29,2) -> 4
A30: 춘당 | B30: 여양고 | C30: 선택2 | D30: 국어 | E30: 3 | F30: 18 | G30: 59 | H30: =ROUND(F30/E30,2) -> 6
D31: 도덕·윤리 | E31: 1 | F31: 1 | G31: 9 | H31: =ROUND(F31/E31,2) -> 1
D32: 지리 | E32: 1 | F32: 5 | G32: 14 | H32: =ROUND(F32/E32,2) -> 5
D33: 수학 | E33: 1 | F33: 9 | G33: 7 | H33: =ROUND(F33/E33,2) -> 9
D34: 화학 | E34: 1 | F34: 3 | G34: 10 | H34: =ROUND(F34/E34,2) -> 3
D35: 일본어 | E35: 1 | F35: 3 | G35: 16 | H35: =ROUND(F35/E35,2) -> 3
A36: 운강 | B36: 여수종고중 | C36: 선택2 | D36: 일반사회 | E36: 1 | F36: 3 | G36: 8 | H36: =ROUND(F36/E36,2) -> 3
D37: 수학 | E37: 1 | F37: 6 | G37: 5 | H37: =ROUND(F37/E37,2) -> 6
D38: 체육 | E38: 1 | F38: 5 | G38: 15 | H38: =ROUND(F38/E38,2) -> 5
D39: 미술 | E39: 1 | F39: 6 | G39: 13 | H39: =ROUND(F39/E39,2) -> 6
D40: 기술 | E40: 1 | F40: 1 | G40: 7 | H40: =ROUND(F40/E40,2) -> 1
B41: 여수공고 | C41: 선택2 | D41: 역사 | E41: 1 | F41: 2 | G41: 7 | H41: =ROUND(F41/E41,2) -> 2
D42: 체육 | E42: 1 | F42: 4 | G42: 9 | H42: =ROUND(F42/E42,2) -> 4
...
