Workbook

Sheet 총괄
A1: 2023학년도 중등학교 교사 임용시험 접수현황(최종)
A3: □ 총괄
A4: 구 분 | C4: 선발예정인원 | D4: 지원자 | E4: 경쟁률
A5: 공 립 | B5: 일 반 | C5: =[1]공립!C26 -> 322 | D5: =공립!G26 -> 2749 | E5: =ROUND(D5/C5,2) -> 8.54
B6: 장 애 | C6: =[1]공립!D26 -> 26 | D6: =공립!G37 -> 16 | E6: =ROUND(D6/C6,2) -> 0.62
B7: 소 계 | C7: =SUM(C5:C6) -> 348 | D7: =SUM(D5:D6) -> 2765 | E7: =ROUND(D7/C7,2) -> 7.95
A8: 사립(1순위) | C8: =[1]사립!D114 -> 117 | D8: =사립!E113 -> 528 | E8: =ROUND(D8/C8,2) -> 4.51
A9: 계 | C9: =SUM(C7:C8) -> 465 | D9: =SUM(D7:D8) -> 3293 | E9: =ROUND(D9/C9,2) -> 7.08
A10: ※ 과목별, 법인(학교)별 세부내역은 별도 SHEET(공립, 사립)를 참조하시기 바랍니다.

Sheet 공립
A1: 2023학년도 전라남도 공립 중등교사 임용시접수현황(최종)
A2: □ 공립
A3: 구분 | B3: NO | C3: 교과 | D3: 모집인원 | E3: 지원자 | H3: 경쟁률
E4: 남 | F4: 여 | G4: 계
A5: 일반 | B5: 1 | C5: 국어 | D5: 46 | E5: 116 | F5: 357 | G5: =E5+F5 -> 473 | H5: =G5/D5 -> 10.282609
B6: 2 | C6: 일반사회 | D6: 9 | E6: 25 | F6: 65 | G6: =E6+F6 -> 90 | H6: =G6/D6 -> 10
B7: 3 | C7: 역사 | D7: 9 | E7: 42 | F7: 52 | G7: =E7+F7 -> 94 | H7: =G7/D7 -> 10.444444
B8: 4 | C8: 지리 | D8: 7 | E8: 24 | F8: 33 | G8: =E8+F8 -> 57 | H8: =G8/D8 -> 8.1428571
B9: 5 | C9: 수학 | D9: 46 | E9: 147 | F9: 175 | G9: =E9+F9 -> 322 | H9: =G9/D9 -> 7
B10: 6 | C10: 물리 | D10: 4 | E10: 20 | F10: 26 | G10: =E10+F10 -> 46 | H10: =G10/D10 -> 11.5
B11: 7 | C11: 화학 | D11: 5 | E11: 23 | F11: 36 | G11: =E11+F11 -> 59 | H11: =G11/D11 -> 11.8
B12: 8 | C12: 생물 | D12: 3 | E12: 12 | F12: 34 | G12: =E12+F12 -> 46 | H12: =G12/D12 -> 15.333333
B13: 9 | C13: 지구과학 | D13: 2 | E13: 4 | F13: 13 | G13: =E13+F13 -> 17 | H13: =G13/D13 -> 8.5
B14: 10 | C14: 기술 | D14: 1 | E14: 3 | F14: 2 | G14: =E14+F14 -> 5 | H14: =G14/D14 -> 5
B15: 11 | C15: 가정 | D15: 5 | E15: 4 | F15: 37 | G15: =E15+F15 -> 41 | H15: =G15/D15 -> 8.2
B16: 12 | C16: 체육 | D16: 23 | E16: 143 | F16: 60 | G16: =E16+F16 -> 203 | H16: =G16/D16 -> 8.826087
B17: 13 | C17: 음악 | D17: 3 | E17: 7 | F17: 55 | G17: =E17+F17 -> 62 | H17: =G17/D17 -> 20.666667
... B25: 21 | C25: 전문상담 | D25: 23 | E25: 33 | F25: 170 | G25: =E25+F25 -> 203 | H25: =G25/D25 -> 8.826087
B26: 일반 소계 | D26: =SUM(D5:D25) -> 322 | E26: =SUM(E5:E25) -> 756 | F26: =SUM(F5:F25) -> 1993 | G26: =SUM(G5:G25) -> 2749 | H26: =G26/D26 -> 8.5372671
A27: 장애 | B27: 1 | C27: 국어 | D27: 4 | E27: 1 | F27: 0 | G27: 1 | H27: 0.25
B28: 2 | C28: 역사 | D28: 1 | E28: 1 | F28: 0 | G28: 1 | H28: 1
B29: 3 | C29: 수학 | D29: 4 | E29: 1 | F29: 0 | G29: 1 | H29: 0.25
B30: 4 | C30: 생물 | D30: 1 | E30: 1 | F30: 0 | G30: 1 | H30: 1
B31: 5 | C31: 체육 | D31: 2 | E31: 1 | F31: 0 | G31: 1 | H31: 0.5
B32: 6 | C32: 미술 | D32: 1 | E32: 0 | F32: 1 | G32: 1 | H32: 1
B33: 7 | C33: 영어 | D33: 3 | E33: 0 | F33: 1 | G33: 1 | H33: 0.33
B34: 8 | C34: 사서 | D34: 1 | E34: 1 | F34: 1 | G34: 2 | H34: 2
B35: 9 | C35: 도덕・윤리 | D35: 2 | E35: 0 | F35: 1 | G35: 1 | H35: 0.5
B36: 10 | C36: 특수(중등) | D36: 2 | E36: 5 | F36: 1 | G36: 6 | H36: 3
B37: 장애 소계 | D37: 26 | E37: 11 | F37: 5 | G37: 16 | H37: =G37/D37 -> 0.61538462
A38: 합 계 | D38: =D37+D26 -> 348 | E38: =E37+E26 -> 767 | F38: =F37+F26 -> 1998 | G38: =G37+G26 -> 2765 | H38: =G38/D38 -> 7.9454023

Sheet 사립
A1: □ 사립
A2: 사립학교(법인)명 | B2: 교과 | C2: 모집인원 | D2: 지 원 자 | G2: 비고
D3: 공립+사립 | E3: 사립 | F3: 합계
A4: 여도초등학교 | B4: 보건 | C4: 1 | D4: 25 | E4: 4 | F4: =D4+E4 -> 29
A5: 여도중학교 | B5: 국어 | C5: 1 | D5: 33 | E5: 1 | F5: =D5+E5 -> 34
A6: 여도중학교 | B6: 일반사회 | C6: 1 | D6: 11 | E6: 0 | F6: =D6+E6 -> 11
A7: 여도중학교 | B7: 수학 | C7: 1 | D7: 38 | E7: 2 | F7: =D7+E7 -> 40
A8: 여도중학교 | B8: 물리 | C8: 1 | D8: 21 | E8: 3 | F8: =D8+E8 -> 24
A9: 여도중학교 | B9: 기술 | C9: 1 | D9: 2 | E9: 3 | F9: =D9+E9 -> 5
A10: 문태고등학교 | B10: 역사 | C10: 1 | D10: 25 | E10: 6 | F10: =D10+E10 -> 31
A11: 목포정명여자중학교 | B11: 역사 | C11: 1 | D11: 12 | E11: 6 | F11: =D11+E11 -> 18
A12: 목포정명여자중학교 | B12: 가정 | C12: 1 | D12: 10 | E12: 7 | F12: =D12+E12 -> 17
A13: 목포정명여자중학교 | B13: 영어 | C13: 1 | D13: 20 | E13: 4 | F13: =D13+E13 -> 24
A14: 목포정명여자고등학교 | B14: 국어 | C14: 1 | D14: 14 | E14: 4 | F14: =D14+E14 -> 18
A15: 목포정명여자고등학교 | B15: 지리 | C15: 1 | D15: 17 | E15: 3 | F15: =D15+E15 -> 20
... A112: 함평영화학교(특수학교) | B112: 특수(중등) | C112: 1 | D112: 19 | E112: 9 | F112: =D112+E112 -> 28
A113: 합계 | C113: 117 | D113: 1600 | E113: 528 | F113: =D113+E113 -> 2128
