Workbook

Sheet 공립
A1: 2024학년도 공립 중등교사 임용시험 응시원서 접수 결과 (최종)
A3: 충청북도교육청 | N3: (단위:명)
A4: 순 | B4: 과 목 | C4: 선발예정인원 | F4: 접수인원 | L4: 경쟁률(누적) | N4: 비고
C5: 일 반 | D5: 장 애 | E5: 합 계 | F5: 일반 | I5: 장애 | K5: 합 계 | L5: 일 반 | M5: 장 애
F6: 공립만 지원 | G6: 공사립 동시지원 | H6: 소 계 | I6: 공 립 | J6: 소 계
A7: 1 | B7: 국어 | C7: 17 | D7: 2 | E7: =C7+D7 -> 19 | F7: 54 | G7: =사립!Z7 -> 172 | H7: =SUM(F7:G7) -> 226 | I7: 2 | J7: =I7 -> 2 | K7: =SUM(H7,J7) -> 228 | L7: =H7/C7 -> 13.294118 | M7: =IF((D7=0),"",J7/D7) -> 1
A8: 2 | B8: 수학 | C8: 16 | D8: 2 | E8: =C8+D8 -> 18 | F8: 23 | G8: =사립!Z8 -> 90 | H8: =SUM(F8:G8) -> 113 | J8: =I8 -> 0 | K8: =SUM(H8,J8) -> 113 | L8: =H8/C8 -> 7.0625 | M8: =IF((D8=0),"",J8/D8) -> 0
A9: 3 | B9: 영어 | C9: 11 | D9: 1 | E9: =C9+D9 -> 12 | F9: 31 | G9: =사립!Z9 -> 72 | H9: =SUM(F9:G9) -> 103 | J9: =I9 -> 0 | K9: =SUM(H9,J9) -> 103 | L9: =H9/C9 -> 9.3636364 | M9: =IF((D9=0),"",J9/D9) -> 0
A10: 4 | B10: 도덕·윤리 | C10: 4 | D10: 1 | E10: =C10+D10 -> 5 | F10: 4 | G10: =사립!Z10 -> 25 | H10: =SUM(F10:G10) -> 29 | J10: =I10 -> 0 | K10: =SUM(H10,J10) -> 29 | L10: =H10/C10 -> 7.25 | M10: =IF((D10=0),"",J10/D10) -> 0
A11: 5 | B11: 일반사회 | C11: 4 | D11: 1 | E11: =C11+D11 -> 5 | F11: 29 | H11: =SUM(F11:G11) -> 29 | I11: 1 | J11: =I11 -> 1 | K11: =SUM(H11,J11) -> 30 | L11: =H11/C11 -> 7.25 | M11: =IF((D11=0),"",J11/D11) -> 1
A12: 6 | B12: 지리 | C12: 6 | D12: 1 | E12: =C12+D12 -> 7 | F12: 22 | G12: =사립!Z12 -> 28 | H12: =SUM(F12:G12) -> 50 | I12: 1 | J12: =I12 -> 1 | K12: =SUM(H12,J12) -> 51 | L12: =H12/C12 -> 8.3333333 | M12: =IF((D12=0),"",J12/D12) -> 1
A13: 7 | B13: 역사 | C13: 3 | E13: =C13+D13 -> 3 | F13: 18 | G13: =사립!Z13 -> 41 | H13: =SUM(F13:G13) -> 59 | J13: =I13 -> 0 | K13: =SUM(H13,J13) -> 59 | L13: =H13/C13 -> 19.666667 | M13: =IF((D13=0),"",J13/D13)
A14: 8 | B14: 물리 | C14: 4 | D14: 1 | E14: =C14+D14 -> 5 | F14: 5 | G14: =사립!Z14 -> 20 | H14: =SUM(F14:G14) -> 25 | I14: 1 | J14: =I14 -> 1 | K14: =SUM(H14,J14) -> 26 | L14: =H14/C14 -> 6.25 | M14: =IF((D14=0),"",J14/D14) -> 1
A15: 9 | B15: 화학 | C15: 7 | D15: 1 | E15: =C15+D15 -> 8 | F15: 14 | G15: =사립!Z15 -> 22 | H15: =SUM(F15:G15) -> 36 | I15: 1 | J15: =I15 -> 1 | K15: =SUM(H15,J15) -> 37 | L15: =H15/C15 -> 5.1428571 | M15: =IF((D15=0),"",J15/D15) -> 1
A16: 10 | B16: 생물 | C16: 7 | E16: =C16+D16 -> 7 | F16: 65 | H16: =SUM(F16:G16) -> 65 | J16: =I16 -> 0 | K16: =SUM(H16,J16) -> 65 | L16: =H16/C16 -> 9.2857143 | M16: =IF((D16=0),"",J16/D16)
A17: 11 | B17: 지구과학 | C17: 3 | E17: =C17+D17 -> 3 | F17: 19 | H17: =SUM(F17:G17) -> 19 | J17: =I17 -> 0 | K17: =SUM(H17,J17) -> 19 | L17: =H17/C17 -> 6.3333333 | M17: =IF((D17=0),"",J17/D17)
A18: 12 | B18: 체육 | C18: 20 | E18: =C18+D18 -> 20 | F18: 54 | G18: =사립!Z17 -> 157 | H18: =SUM(F18:G18) -> 211 | J18: =I18 -> 0 | K18: =SUM(H18,J18) -> 211 | L18: =H18/C18 -> 10.55 | M18: =IF((D18=0),"",J18/D18)
A19: 13 | B19: 기술 | C19: 2 | E19: =C19+D19 -> 2 | F19: 4 | G19: =사립!Z18 -> 4 | H19: =SUM(F19:G19) -> 8 | J19: =I19 -> 0 | K19: =SUM(H19,J19) -> 8 | L19: =H19/C19 -> 4 | M19: =IF((D19=0),"",J19/D19)
A20: 14 | B20: 가정 | C20: 3 | E20: =C20+D20 -> 3 | F20: 22 | H20: =SUM(F20:G20) -> 22 | J20: =I20 -> 0 | K20: =SUM(H20,J20) -> 22 | L20: =H20/C20 -> 7.3333333 | M20: =IF((D20=0),"",J20/D20)
A21: 15 | B21: 정보·컴퓨터 | C21: 6 | D21: 1 | E21: =C21+D21 -> 7 | F21: 8 | G21: =사립!Z19 -> 11 | H21: =SUM(F21:G21) -> 19 | J21: =I21 -> 0 | K21: =SUM(H21,J21) -> 19 | L21: =H21/C21 -> 3.1666667 | M21: =IF((D21=0),"",J21/D21) -> 0
A22: 16 | B22: 일본어 | C22: 1 | E22: =C22+D22 -> 1 | F22: 3 | G22: =사립!Z20 -> 7 | H22: =SUM(F22:G22) -> 10 | J22: =I22 -> 0 | K22: =SUM(H22,J22) -> 10 | L22: =H22/C22 -> 10 | M22: =IF((D22=0),"",J22/D22)
A23: 17 | B23: 기계 | C23: 3 | E23: =C23+D23 -> 3 | F23: 13 | H23: =SUM(F23:G23) -> 13 | J23: =I23 -> 0 | K23: =SUM(H23,J23) -> 13 | L23: =H23/C23 -> 4.3333333 | M23: =IF((D23=0),"",J23/D23)
A24: 18 | B24: 상업 | C24: 1 | E24: =C24+D24 -> 1 | F24: 1 | G24: =사립!Z21 -> 7 | H24: =SUM(F24:G24) -> 8 | J24: =I24 -> 0 | K24: =SUM(H24,J24) -> 8 | L24: =H24/C24 -> 8 | M24: =IF((D24=0),"",J24/D24)
A25: 19 | B25: 식품가공 | C25: 4 | E25: =C25+D25 -> 4 | F25: 24 | H25: =SUM(F25:G25) -> 24 | J25: =I25 -> 0 | K25: =SUM(H25,J25) -> 24 | L25: =H25/C25 -> 6 | M25: =IF((D25=0),"",J25/D25)
A26: 20 | B26: 특수(중등) | C26: 11 | D26: 1 | E26: =C26+D26 -> 12 | F26: 97 | H26: =SUM(F26:G26) -> 97 | I26: 5 | J26: =I26 -> 5 | K26: =SUM(H26,J26) -> 102 | L26: =H26/C26 -> 8.8181818 | M26: =IF((D26=0),"",J26/D26) -> 5
A27: 21 | B27: 보건 | C27: 8 | D27: 1 | E27: =C27+D27 -> 9 | F27: 45 | H27: =SUM(F27:G27) -> 45 | J27: =I27 -> 0 | K27: =SUM(H27,J27) -> 45 | L27: =H27/C27 -> 5.625 | M27: =IF((D27=0),"",J27/D27) -> 0
A28: 22 | B28: 사서 | C28: 2 | E28: =C28+D28 -> 2 | F28: 16 | H28: =SUM(F28:G28) -> 16 | J28: =I28 -> 0 | K28: =SUM(H28,J28) -> 16 | L28: =H28/C28 -> 8 | M28: =IF((D28=0),"",J28/D28)
A29: 23 | B29: 전문상담 | C29: 12 | D29: 1 | E29: =C29+D29 -> 13 | F29: 73 | H29: =SUM(F29:G29) -> 73 | J29: =I29 -> 0 | K29: =SUM(H29,J29) -> 73 | L29: =H29/C29 -> 6.0833333 | M29: =IF((D29=0),"",J29/D29) -> 0
A30: 24 | B30: 영양 | C30: 5 | D30: 1 | E30: =C30+D30 -> 6 | F30: 46 | H30: =SUM(F30:G30) -> 46 | J30: =I30 -> 0 | K30: =SUM(H30,J30) -> 46 | L30: =H30/C30 -> 9.2 | M30: =IF((D30=0),"",J30/D30) -> 0
A31: 합 계 | C31: =SUM(C7:C30) -> 160 | D31: =SUM(D7:D30) -> 15 | E31: =SUM(E7:E30) -> 175 | F31: =SUM(F7:F30) -> 690 | G31: =SUM(G7:G30) -> 656 | H31: =SUM(F31:G31) -> 1346 | I31: =SUM(I7:I30) -> 11 | J31: =I31 -> 11 | K31: =SUM(H31,J31) -> 1357 | L31: =H31/C31 -> 8.4125 | M31: =IF((D31=0),"",I31/D31) -> 0.73333333

Sheet 사립
A1: 2024학년도 사립 중등교사 임용시험 응시원서 접수 결과 (최종)
A3: 충청북도교육청
A4: 순 | B4: 과 목 | C4: 선발예정인원(일반) | O4: 지원인원(누적) | AN4: 경쟁률(누적) | AZ4: 비 고
C5: 청 석 학 원 | D5: 서 원 학 원 | E5: 일 신 학 원 | F5: 이 산 학 원 | G5: 대 원 교 육 재 단 | H5: 문 흥 학 원 | I5: 영 산 학 원 | J5: 영 신 학 원 | K5: 형 석 학 원 | L5: 삼 우 학 원 | M5: 꽃 동 네 현 도 학 원 | N5: 합 계 | O5: 공사립동시 지원 | AA5: 사립만 지원(사립단독개요 포함) | AM5: 합 계 | AN5: 청 석 학 원 | AO5: 서 원 학 원 | AP5: 일 신 학 원 | AQ5: 이 산 학 원 | AR5: 대 원 교 육 재 단 | AS5: 문 흥 학 원 | AT5: 영 산 학 원 | AU5: 영 신 학 원 | AV5: 형 석 학 원 | AW5: 삼 우 학 원 | AX5: 꽃 동 네 현 도 학 원 | AY5: 합 계
O6: 청 석 학 원 | P6: 서 원 학 원 | Q6: 일 신 학 원 | R6: 이 산 학 원 | S6: 대 원 교 육 재 단 | T6: 문 흥 학 원 | U6: 영 산 학 원 | V6: 영 신 학 원 | W6: 형 석 학 원 | X6: 삼 우 학 원 | Y6: 꽃 동 네 현 도 학 원 | Z6: 소 계 | AA6: 청 석 학 원 | AB6: 서 원 학 원 | AC6: 일 신 학 원 | AD6: 이 산 학 원 | AE6: 대 원 교 육 재 단 | AF6: 문 흥 학 원 | AG6: 영 산 학 원 | AH6: 영 신 학 원 | AI6: 형 석 학 원 | AJ6: 삼 우 학 원 | AK6: 꽃 동 네 현 도 학 원 | AL6: 소 계
A7: 1 | B7: 국어 | C7: 2 | D7: 3 | E7: 1 | G7: 1 | N7: =SUM(C7:M7) -> 7 | O7: 53 | P7: 105 | Q7: 14 | Z7: =SUM(O7:Y7) -> 172 | AA7: 4 | AB7: 7 | AC7: 6 | AE7: 11 | AL7: =SUM(AA7:AK7) -> 28 | AM7: =Z7+AL7 -> 200 | AN7: =IF(C7="","",(O7+AA7)/C7) -> 28.5 | AO7: =IF(D7="","",(P7+AB7)/D7) -> 37.333333 | AP7: =IF(E7="","",(Q7+AC7)/E7) -> 20 | AQ7: =IF(F7="","",(R7+AD7)/F7) | AR7: =IF(G7="","",(S7+AE7)/G7) -> 11 | AS7: =IF(H7="","",(T7+AF7)/H7) | AT7: =IF(I7="","",(U7+AG7)/I7) | AU7: =IF(J7="","",(V7+AH7)/J7) | ... AX7: =IF(M7="","",(Y7+AK7)/M7) | AY7: =AM7/N7 -> 28.571429
A8: 2 | B8: 수학 | C8: 1 | D8: 3 | E8: 1 | G8: 1 | H8: 1 | I8: 1 | J8: 1 | K8: 1 | N8: =SUM(C8:M8) -> 10 | O8: 23 | P8: 50 | Q8: 5 | U8: 5 | V8: 3 | W8: 4 | Z8: =SUM(O8:Y8) -> 90 | AA8: 1 | AB8: 8 | AC8: 4 | AE8: 3 | AF8: 5 | AG8: 3 | AH8: 2 | AI8: 1 | AL8: =SUM(AA8:AK8) -> 27 | AM8: =Z8+AL8 -> 117 | AN8: =IF(C8="","",(O8+AA8)/C8) -> 24 | AO8: =IF(D8="","",(P8+AB8)/D8) -> 19.333333 | AP8: =IF(E8="","",(Q8+AC8)/E8) -> 9 | AQ8: =IF(F8="","",(R8+AD8)/F8) | AR8: =IF(G8="","",(S8+AE8)/G8) -> 3 | AS8: =IF(H8="","",(T8+AF8)/H8) -> 5 | AT8: =IF(I8="","",(U8+AG8)/I8) -> 8 | AU8: =IF(J8="","",(V8+AH8)/J8) -> 5 | ... AX8: =IF(M8="","",(Y8+AK8)/M8) | AY8: =AM8/N8 -> 11.7
A9: 3 | B9: 영어 | C9: 1 | D9: 1 | E9: 2 | H9: 1 | I9: 1 | K9: 1 | L9: 1 | N9: =SUM(C9:M9) -> 8 | O9: 27 | P9: 27 | Q9: 11 | U9: 1 | W9: 6 | Z9: =SUM(O9:Y9) -> 72 | AA9: 2 | AB9: 0 | AC9: 7 | AF9: 9 | AG9: 2 | AI9: 4 | AJ9: 5 | AL9: =SUM(AA9:AK9) -> 29 | AM9: =Z9+AL9 -> 101 | AN9: =IF(C9="","",(O9+AA9)/C9) -> 29 | AO9: =IF(D9="","",(P9+AB9)/D9) -> 27 | AP9: =IF(E9="","",(Q9+AC9)/E9) -> 9 | AQ9: =IF(F9="","",(R9+AD9)/F9) | AR9: =IF(G9="","",(S9+AE9)/G9) | AS9: =IF(H9="","",(T9+AF9)/H9) -> 9 | AT9: =IF(I9="","",(U9+AG9)/I9) -> 3 | AU9: =IF(J9="","",(V9+AH9)/J9) | ... AX9: =IF(M9="","",(Y9+AK9)/M9) | AY9: =AM9/N9 -> 12.625
A10: 4 | B10: 도덕ᆞ윤리 | C10: 1 | N10: =SUM(C10:M10) -> 1 | O10: 25 | Z10: =SUM(O10:Y10) -> 25 | AA10: 3 | AL10: =SUM(AA10:AK10) -> 3 | AM10: =Z10+AL10 -> 28 | AN10: =IF(C10="","",(O10+AA10)/C10) -> 28 | AO10: =IF(D10="","",(P10+AB10)/D10) | AP10: =IF(E10="","",(Q10+AC10)/E10) | AQ10: =IF(F10="","",(R10+AD10)/F10) | AR10: =IF(G10="","",(S10+AE10)/G10) | AS10: =IF(H10="","",(T10+AF10)/H10) | AT10: =IF(I10="","",(U10+AG10)/I10) | AU10: =IF(J10="","",(V10+AH10)/J10) | ... AX10: =IF(M10="","",(Y10+AK10)/M10) | AY10: =AM10/N10 -> 28
A11: 5 | B11: 일반사회 | L11: 1 | N11: =SUM(C11:M11) -> 1 | Z11: =SUM(O11:Y11) -> 0 | AJ11: 6 | AL11: =SUM(AA11:AK11) -> 6 | AM11: =Z11+AL11 -> 6 | AN11: =IF(C11="","",(O11+AA11)/C11) | AO11: =IF(D11="","",(P11+AB11)/D11) | AP11: =IF(E11="","",(Q11+AC11)/E11) | AQ11: =IF(F11="","",(R11+AD11)/F11) | AR11: =IF(G11="","",(S11+AE11)/G11) | AS11: =IF(H11="","",(T11+AF11)/H11) | AT11: =IF(I11="","",(U11+AG11)/I11) | AU11: =IF(J11="","",(V11+AH11)/J11) | ... AX11: =IF(M11="","",(Y11+AK11)/M11) | AY11: =AM11/N11 -> 6
A12: 6 | B12: 지리 | E12: 1 | H12: 1 | N12: =SUM(C12:M12) -> 2 | Q12: 28 | Z12: =SUM(O12:Y12) -> 28 | AC12: 3 | AF12: 5 | AL12: =SUM(AA12:AK12) -> 8 | AM12: =Z12+AL12 -> 36 | AN12: =IF(C12="","",(O12+AA12)/C12) | AO12: =IF(D12="","",(P12+AB12)/D12) | AP12: =IF(E12="","",(Q12+AC12)/E12) -> 31 | AQ12: =IF(F12="","",(R12+AD12)/F12) | AR12: =IF(G12="","",(S12+AE12)/G12) | AS12: =IF(H12="","",(T12+AF12)/H12) -> 5 | AT12: =IF(I12="","",(U12+AG12)/I12) | AU12: =IF(J12="","",(V12+AH12)/J12) | ... AX12: =IF(M12="","",(Y12+AK12)/M12) | AY12: =AM12/N12 -> 18
A13: 7 | B13: 역사 | C13: 1 | E13: 1 | I13: 1 | N13: =SUM(C13:M13) -> 3 | O13: 28 | Q13: 9 | U13: 4 | Z13: =SUM(O13:Y13) -> 41 | AA13: 0 | AC13: 4 | AG13: 1 | AL13: =SUM(AA13:AK13) -> 5 | AM13: =Z13+AL13 -> 46 | AN13: =IF(C13="","",(O13+AA13)/C13) -> 28 | AO13: =IF(D13="","",(P13+AB13)/D13) | AP13: =IF(E13="","",(Q13+AC13)/E13) -> 13 | AQ13: =IF(F13="","",(R13+AD13)/F13) | AR13: =IF(G13="","",(S13+AE13)/G13) | AS13: =IF(H13="","",(T13+AF13)/H13) | AT13: =IF(I13="","",(U13+AG13)/I13) -> 5 | AU13: =IF(J13="","",(V13+AH13)/J13) | ... AX13: =IF(M13="","",(Y13+AK13)/M13) | AY13: =AM13/N13 -> 15.333333
A14: 8 | B14: 물리 | E14: 1 | N14: =SUM(C14:M14) -> 1 | Q14: 20 | Z14: =SUM(O14:Y14) -> 20 | AC14: 2 | AL14: =SUM(AA14:AK14) -> 2 | AM14: =Z14+AL14 -> 22 | AN14: =IF(C14="","",(O14+AA14)/C14) | AO14: =IF(D14="","",(P14+AB14)/D14) | AP14: =IF(E14="","",(Q14+AC14)/E14) -> 22 | AQ14: =IF(F14="","",(R14+AD14)/F14) | AR14: =IF(G14="","",(S14+AE14)/G14) | AS14: =IF(H14="","",(T14+AF14)/H14) | AT14: =IF(I14="","",(U14+AG14)/I14) | AU14: =IF(J14="","",(V14+AH14)/J14) | ... AX14: =IF(M14="","",(Y14+AK14)/M14) | AY14: =AM14/N14 -> 22
A15: 9 | B15: 화학 | D15: 1 | E15: 1 | G15: 1 | H15: 1 | K15: 1 | N15: =SUM(C15:M15) -> 5 | P15: 16 | Q15: 4 | W15: 2 | Z15: =SUM(O15:Y15) -> 22 | AB15: 1 | AC15: 1 | AE15: 0 | AF15: 0 | AI15: 0 | AL15: =SUM(AA15:AK15) -> 2 | AM15: =Z15+AL15 -> 24 | AN15: =IF(C15="","",(O15+AA15)/C15) | AO15: =IF(D15="","",(P15+AB15)/D15) -> 17 | AP15: =IF(E15="","",(Q15+AC15)/E15) -> 5 | AQ15: =IF(F15="","",(R15+AD15)/F15) | AR15: =IF(G15="","",(S15+AE15)/G15) -> 0 | AS15: =IF(H15="","",(T15+AF15)/H15) -> 0 | AT15: =IF(I15="","",(U15+AG15)/I15) | AU15: =IF(J15="","",(V15+AH15)/J15) | ... AX15: =IF(M15="","",(Y15+AK15)/M15) | AY15: =AM15/N15 -> 4.8
A16: 10 | B16: 지구과학 | H16: 1 | N16: =SUM(C16:M16) -> 1 | Z16: =SUM(O16:Y16) -> 0 | AF16: 2 | AL16: =SUM(AA16:AK16) -> 2 | AM16: =Z16+AL16 -> 2 | AN16: =IF(C16="","",(O16+AA16)/C16) | AO16: =IF(D16="","",(P16+AB16)/D16) | AP16: =IF(E16="","",(Q16+AC16)/E16) | AQ16: =IF(F16="","",(R16+AD16)/F16) | AR16: =IF(G16="","",(S16+AE16)/G16) | AS16: =IF(H16="","",(T16+AF16)/H16) -> 2 | AT16: =IF(I16="","",(U16+AG16)/I16) | AU16: =IF(J16="","",(V16+AH16)/J16) | ... AX16: =IF(M16="","",(Y16+AK16)/M16) | AY16: =AM16/N16 -> 2
A17: 11 | B17: 체육 | C17: 1 | E17: 1 | J17: 1 | N17: =SUM(C17:M17) -> 3 | O17: 96 | Q17: 39 | V17: 22 | Z17: =SUM(O17:Y17) -> 157 | AA17: 2 | AC17: 5 | AH17: 2 | AL17: =SUM(AA17:AK17) -> 9 | AM17: =Z17+AL17 -> 166 | AN17: =IF(C17="","",(O17+AA17)/C17) -> 98 | AO17: =IF(D17="","",(P17+AB17)/D17) | AP17: =IF(E17="","",(Q17+AC17)/E17) -> 44 | AQ17: =IF(F17="","",(R17+AD17)/F17) | AR17: =IF(G17="","",(S17+AE17)/G17) | AS17: =IF(H17="","",(T17+AF17)/H17) | AT17: =IF(I17="","",(U17+AG17)/I17) | AU17: =IF(J17="","",(V17+AH17)/J17) -> 24 | ... AX17: =IF(M17="","",(Y17+AK17)/M17) | AY17: =AM17/N17 -> 55.333333
A18: 12 | B18: 기술 | C18: 1 | N18: =SUM(C18:M18) -> 1 | O18: 4 | Z18: =SUM(O18:Y18) -> 4 | AA18: 1 | AL18: =SUM(AA18:AK18) -> 1 | AM18: =Z18+AL18 -> 5 | AN18: =IF(C18="","",(O18+AA18)/C18) -> 5 | AO18: =IF(D18="","",(P18+AB18)/D18) | AP18: =IF(E18="","",(Q18+AC18)/E18) | AQ18: =IF(F18="","",(R18+AD18)/F18) | AR18: =IF(G18="","",(S18+AE18)/G18) | AS18: =IF(H18="","",(T18+AF18)/H18) | AT18: =IF(I18="","",(U18+AG18)/I18) | AU18: =IF(J18="","",(V18+AH18)/J18) | ... AX18: =IF(M18="","",(Y18+AK18)/M18) | AY18: =AM18/N18 -> 5
A19: 13 | B19: 정보·컴퓨터 | D19: 2 | E19: 1 | F19: 1 | N19: =SUM(C19:M19) -> 4 | P19: 10 | Q19: 1 | Z19: =SUM(O19:Y19) -> 11 | AB19: 3 | AC19: 0 | AD19: 0 | AL19: =SUM(AA19:AK19) -> 3 | AM19: =Z19+AL19 -> 14 | AN19: =IF(C19="","",(O19+AA19)/C19) | AO19: =IF(D19="","",(P19+AB19)/D19) -> 6.5 | AP19: =IF(E19="","",(Q19+AC19)/E19) -> 1 | AQ19: =IF(F19="","",(R19+AD19)/F19) -> 0 | AR19: =IF(G19="","",(S19+AE19)/G19) | AS19: =IF(H19="","",(T19+AF19)/H19) | AT19: =IF(I19="","",(U19+AG19)/I19) | AU19: =IF(J19="","",(V19+AH19)/J19) | ... AX19: =IF(M19="","",(Y19+AK19)/M19) | AY19: =AM19/N19 -> 3.5
A20: 14 | B20: 일본어 | E20: 1 | N20: =SUM(C20:M20) -> 1 | Q20: 7 | Z20: =SUM(O20:Y20) -> 7 | AC20: 2 | AL20: =SUM(AA20:AK20) -> 2 | AM20: =Z20+AL20 -> 9 | AN20: =IF(C20="","",(O20+AA20)/C20) | AO20: =IF(D20="","",(P20+AB20)/D20) | AP20: =IF(E20="","",(Q20+AC20)/E20) -> 9 | AQ20: =IF(F20="","",(R20+AD20)/F20) | AR20: =IF(G20="","",(S20+AE20)/G20) | AS20: =IF(H20="","",(T20+AF20)/H20) | AT20: =IF(I20="","",(U20+AG20)/I20) | AU20: =IF(J20="","",(V20+AH20)/J20) | ... AX20: =IF(M20="","",(Y20+AK20)/M20) | AY20: =AM20/N20 -> 9
A21: 15 | B21: 상업 | C21: 2 | N21: =SUM(C21:M21) -> 2 | O21: 7 | Z21: =SUM(O21:Y21) -> 7 | AA21: 9 | AL21: =SUM(AA21:AK21) -> 9 | AM21: =Z21+AL21 -> 16 | AN21: =IF(C21="","",(O21+AA21)/C21) -> 8 | AO21: =IF(D21="","",(P21+AB21)/D21) | AP21: =IF(E21="","",(Q21+AC21)/E21) | AQ21: =IF(F21="","",(R21+AD21)/F21) | AR21: =IF(G21="","",(S21+AE21)/G21) | AS21: =IF(H21="","",(T21+AF21)/H21) | AT21: =IF(I21="","",(U21+AG21)/I21) | AU21: =IF(J21="","",(V21+AH21)/J21) | ... AX21: =IF(M21="","",(Y21+AK21)/M21) | AY21: =AM21/N21 -> 8
A22: 16 | B22: 미술 | J22: 1 | K22: 1 | N22: =SUM(C22:M22) -> 2 | Z22: =SUM(O22:Y22) -> 0 | AH22: 3 | AI22: 7 | AL22: =SUM(AA22:AK22) -> 10 | AM22: =Z22+AL22 -> 10 | AN22: =IF(C22="","",(O22+AA22)/C22) | AO22: =IF(D22="","",(P22+AB22)/D22) | AP22: =IF(E22="","",(Q22+AC22)/E22) | AQ22: =IF(F22="","",(R22+AD22)/F22) | AR22: =IF(G22="","",(S22+AE22)/G22) | AS22: =IF(H22="","",(T22+AF22)/H22) | AT22: =IF(I22="","",(U22+AG22)/I22) | AU22: =IF(J22="","",(V22+AH22)/J22) -> 3 | ... AX22: =IF(M22="","",(Y22+AK22)/M22) | AY22: =AM22/N22 -> 5
A23: 17 | B23: 특수(중등) | M23: 3 | N23: =SUM(C23:M23) -> 3 | Z23: =SUM(O23:Y23) -> 0 | AK23: 24 | AL23: =SUM(AA23:AK23) -> 24 | AM23: =Z23+AL23 -> 24 | AN23: =IF(C23="","",(O23+AA23)/C23) | AO23: =IF(D23="","",(P23+AB23)/D23) | AP23: =IF(E23="","",(Q23+AC23)/E23) | AQ23: =IF(F23="","",(R23+AD23)/F23) | AR23: =IF(G23="","",(S23+AE23)/G23) | AS23: =IF(H23="","",(T23+AF23)/H23) | AT23: =IF(I23="","",(U23+AG23)/I23) | AU23: =IF(J23="","",(V23+AH23)/J23) | ... AX23: =IF(M23="","",(Y23+AK23)/M23) -> 8 | AY23: =AM23/N23 -> 8
A24: 합 계 | C24: =SUM(C7:C23) -> 10 | D24: =SUM(D7:D23) -> 10 | E24: =SUM(E7:E23) -> 11 | F24: =SUM(F7:F23) -> 1 | G24: =SUM(G7:G23) -> 3 | H24: =SUM(H7:H23) -> 5 | I24: =SUM(I7:I23) -> 3 | J24: =SUM(J7:J23) -> 3 | ... M24: =SUM(M7:M23) -> 3 | N24: =SUM(C24:M24) -> 55 | O24: =SUM(O7:O23) -> 263 | P24: =SUM(P7:P23) -> 208 | Q24: =SUM(Q7:Q23) -> 138 | R24: =SUM(R7:R23) -> 0 | S24: =SUM(S7:S23) -> 0 | T24: =SUM(T7:T23) -> 0 | U24: =SUM(U7:U23) -> 10 | V24: =SUM(V7:V23) -> 25 | ... Y24: =SUM(Y7:Y23) -> 0 | Z24: =SUM(O24:Y24) -> 656 | AA24: =SUM(AA7:AA23) -> 22 | AB24: =SUM(AB7:AB23) -> 19 | AC24: =SUM(AC7:AC23) -> 34 | AD24: =SUM(AD7:AD23) -> 0 | AE24: =SUM(AE7:AE23) -> 14 | AF24: =SUM(AF7:AF23) -> 21 | AG24: =SUM(AG7:AG23) -> 6 | AH24: =SUM(AH7:AH23) -> 7 | ... AK24: =SUM(AK7:AK23) -> 24 | AL24: =SUM(AA24:AK24) -> 170 | AM24: =Z24+AL24 -> 826 | AN24: =(O24+AA24)/C24 -> 28.5 | AO24: =(P24+AB24)/D24 -> 22.7 | AP24: =(Q24+AC24)/E24 -> 15.636364 | AQ24: =(R24+AD24)/F24 -> 0 | AR24: =(S24+AE24)/G24 -> 4.6666667 | AS24: =(T24+AF24)/H24 -> 4.2 | AT24: =(U24+AG24)/I24 -> 5.3333333 | AU24: =(V24+AH24)/J24 -> 10.666667 | ... AX24: =(Y24+AK24)/M24 -> 8 | AY24: =AM24/N24 -> 15.018182
